BEGIN:VCALENDAR
VERSION:2.0
PRODID:-//Värmlands Idéburna - ECPv6.15.18//NONSGML v1.0//EN
CALSCALE:GREGORIAN
METHOD:PUBLISH
X-WR-CALNAME:Värmlands Idéburna
X-ORIGINAL-URL:https://varmlandsideburna.se
X-WR-CALDESC:Händelser för Värmlands Idéburna
REFRESH-INTERVAL;VALUE=DURATION:PT1H
X-Robots-Tag:noindex
X-PUBLISHED-TTL:PT1H
BEGIN:VTIMEZONE
TZID:Europe/Stockholm
BEGIN:DAYLIGHT
TZOFFSETFROM:+0100
TZOFFSETTO:+0200
TZNAME:CEST
DTSTART:20240331T010000
END:DAYLIGHT
BEGIN:STANDARD
TZOFFSETFROM:+0200
TZOFFSETTO:+0100
TZNAME:CET
DTSTART:20241027T010000
END:STANDARD
BEGIN:DAYLIGHT
TZOFFSETFROM:+0100
TZOFFSETTO:+0200
TZNAME:CEST
DTSTART:20250330T010000
END:DAYLIGHT
BEGIN:STANDARD
TZOFFSETFROM:+0200
TZOFFSETTO:+0100
TZNAME:CET
DTSTART:20251026T010000
END:STANDARD
BEGIN:DAYLIGHT
TZOFFSETFROM:+0100
TZOFFSETTO:+0200
TZNAME:CEST
DTSTART:20260329T010000
END:DAYLIGHT
BEGIN:STANDARD
TZOFFSETFROM:+0200
TZOFFSETTO:+0100
TZNAME:CET
DTSTART:20261025T010000
END:STANDARD
END:VTIMEZONE
BEGIN:VEVENT
DTSTART;TZID=Europe/Stockholm:20251009T150000
DTEND;TZID=Europe/Stockholm:20251009T163000
DTSTAMP:20260426T043028
CREATED:20240826T080401Z
LAST-MODIFIED:20250910T082001Z
UID:1893-1760022000-1760027400@varmlandsideburna.se
SUMMARY:Hållplats Idéburna
DESCRIPTION:Den 9 oktober är du välkommen till Hållplats Idéburna med Värmlands Idéburna hos Konstfrämjandet Värmland! \nUnder denna träff kommer vi får lära oss mer om Konstfrämjandets verksamhet. Vi kommer även ha tid för att samtala med varandra om vad som är aktuellt för er just nu. Det bjuds även på fika. \nDatum: 9 oktober\nTid: 15.00-16.30\nPlats: Konstfrämjandet Värmland\, Bergslagsgatan 11B\, 652 22 Karlstad\nSista anmälan: 2 oktober via länken nedan \nAnmäl dig här!\n  \nOm Hållplats Idéburna \n”Hållplats Idéburna” är en kontinuerlig mötesplats för alla idéburna organisationer i Värmland. Hållplatserna förläggs hos en idéburen organisation i Värmland. Under varje träff kommer det att finnas gott om tid för nätverkande med andra idéburna organisationer. Träffarna är kostnadsfria och det bjuds alltid på förtäring. Vi som står bakom är samarbetsorganisationen Värmlands Idéburna (VI). \n\nVid frågor och funderingar\, kontakta Värmlands Idéburnas verksamhetsledare:\nAnna Rydborg\nanna@varmlandsideburna.se \nVarmt välkommen!
URL:https://varmlandsideburna.se/kalendarium/hallplats-ideburna-2/
LOCATION:Konstfrämjandet Värmland\, Bergslagsgatan 11 B\, Herrhagen\,\, Karlstad\, 65222\, Sweden
ATTACH;FMTTYPE=image/png:https://varmlandsideburna.se/wp-content/uploads/2024/08/Hallplats.png
END:VEVENT
BEGIN:VEVENT
DTSTART;TZID=Europe/Stockholm:20251014T120000
DTEND;TZID=Europe/Stockholm:20251014T124500
DTSTAMP:20260426T043028
CREATED:20250820T125549Z
LAST-MODIFIED:20250915T134752Z
UID:2709-1760443200-1760445900@varmlandsideburna.se
SUMMARY:Medlemsträff 14 - Gäst på temat "Kraftsamlingen för alla barns och ungas hälsa"
DESCRIPTION:Välkommen till veckans VI hörs där vi gästas av Anna Sandberg\, Folkhälsostrateg på Region Värmland\, för att prata om satsningen ”Kraftsamlingen barns och ungas hälsa”. \nDatum: 14 oktober\nTid: kl. 12.00-12.45\nPlats: Digitalt via Teams\nSista anmälan: 7 oktober \nAnmäl dig här!\nOm mötet:\nAtt skapa goda förutsättningar för alla barn och unga att må bra är en komplex samhällsutmaning som kräver insatser från flera samhällsaktörer. Region Värmland kommer under hösten att bjuda in länets aktörer till medverkan i en gemensam kraftsamling där det hälsofrämjande perspektivet står i centrum. Civilsamhällets aktörer spelar en viktig roll när det gäller att stärka skyddsfaktorer kring barn\, unga och deras viktiga vuxna. Vid det här tillfället får ni information om kraftsamlingen och om vad som sker senare i höst. Ni får också möjlighet att diskutera på vilket sätt ni vill bli delaktiga. \nVid frågor och funderingar\, kontakta Värmlands Idéburnas verksamhetsledare:\nAnna Rydborg\nanna@varmlandsideburna.se \nVarmt välkommen! \n…………………. \nOm VI Hörs!\nUnder namnet VI hörs! ses vi varannan tisdag kl. 12.00–12.45 via Teams – för dig som vill utbyta idéer och stärka kontakten med andra medlemsorganisationer. \nTräffarna har olika upplägg:– Öppet samtal: Vi samtalar fritt kring det som är aktuellt hos er just nu – med eller utan tema.– Värdorganisation: En medlemsorganisation berättar om sin verksamhet och något särskilt som händer just nu.\n– Omvärldsbevakning med gäst: Vi bjuder in en gäst och samtalar kring ett aktuellt tema. \nVill din organisation vara värd för ett tillfälle?Mejla oss på info@varmlandsideburna.se \nTid: kl. 12.00–12.45\nPlats: Digitalt via Teams\nDatum: 28/10\, 11/11\, 25/11\, 9/12
URL:https://varmlandsideburna.se/kalendarium/medlemstraff-14/
LOCATION:Digitalt via Teams
CATEGORIES:Års- och medlemsmöten
ATTACH;FMTTYPE=image/png:https://varmlandsideburna.se/wp-content/uploads/2025/09/medlemstraff-14.png
END:VEVENT
BEGIN:VEVENT
DTSTART;TZID=Europe/Stockholm:20251028T120000
DTEND;TZID=Europe/Stockholm:20251028T124500
DTSTAMP:20260426T043028
CREATED:20250820T130711Z
LAST-MODIFIED:20250915T134814Z
UID:2717-1761652800-1761655500@varmlandsideburna.se
SUMMARY:Medlemsträff 15
DESCRIPTION:Välkommen till veckans VI hörs där vi kommer att ha en värdorganisation på plats för att berätta om sin verksamhet. Det kommer även finnas tid för er att ta upp andra frågor som ni vill diskutera. \nVill din organisation vara värd för ett tillfälle? Mejla oss på info@varmlandsideburna.se \nDatum: 28 oktober\nTid: 12.00–12.45Plats: Digitalt via Teams: Använd denna länk för att koppla upp dig  till mötet. \n…………………. \nOm VI Hörs! \nUnder namnet VI hörs! ses vi varannan tisdag kl. 12.00–12.45 via Teams – för dig som vill utbyta idéer och stärka kontakten med andra medlemsorganisationer. \nTräffarna har olika upplägg:– Öppet samtal: Vi samtalar fritt kring det som är aktuellt hos er just nu – med eller utan tema.– Värdorganisation: En medlemsorganisation berättar om sin verksamhet och något särskilt som händer just nu.\n– Omvärldsbevakning med gäst: Vi bjuder in en gäst och samtalar kring ett aktuellt tema. \nVill din organisation vara värd för ett tillfälle?Mejla oss på info@varmlandsideburna.se \nTid: kl. 12.00–12.45\nPlats: Digitalt via Teams\nDatum: 11/11\, 25/11\, 9/12
URL:https://varmlandsideburna.se/kalendarium/medlemstraff-15/
LOCATION:Digitalt via Teams
CATEGORIES:Års- och medlemsmöten
ATTACH;FMTTYPE=image/png:https://varmlandsideburna.se/wp-content/uploads/2025/09/medlemstraff-15.png
END:VEVENT
END:VCALENDAR