BEGIN:VCALENDAR
VERSION:2.0
PRODID:-//Värmlands Idéburna - ECPv6.15.18//NONSGML v1.0//EN
CALSCALE:GREGORIAN
METHOD:PUBLISH
X-ORIGINAL-URL:https://varmlandsideburna.se
X-WR-CALDESC:Händelser för Värmlands Idéburna
REFRESH-INTERVAL;VALUE=DURATION:PT1H
X-Robots-Tag:noindex
X-PUBLISHED-TTL:PT1H
BEGIN:VTIMEZONE
TZID:Europe/Stockholm
BEGIN:DAYLIGHT
TZOFFSETFROM:+0100
TZOFFSETTO:+0200
TZNAME:CEST
DTSTART:20240331T010000
END:DAYLIGHT
BEGIN:STANDARD
TZOFFSETFROM:+0200
TZOFFSETTO:+0100
TZNAME:CET
DTSTART:20241027T010000
END:STANDARD
BEGIN:DAYLIGHT
TZOFFSETFROM:+0100
TZOFFSETTO:+0200
TZNAME:CEST
DTSTART:20250330T010000
END:DAYLIGHT
BEGIN:STANDARD
TZOFFSETFROM:+0200
TZOFFSETTO:+0100
TZNAME:CET
DTSTART:20251026T010000
END:STANDARD
BEGIN:DAYLIGHT
TZOFFSETFROM:+0100
TZOFFSETTO:+0200
TZNAME:CEST
DTSTART:20260329T010000
END:DAYLIGHT
BEGIN:STANDARD
TZOFFSETFROM:+0200
TZOFFSETTO:+0100
TZNAME:CET
DTSTART:20261025T010000
END:STANDARD
END:VTIMEZONE
BEGIN:VEVENT
DTSTART;TZID=Europe/Stockholm:20250902T120000
DTEND;TZID=Europe/Stockholm:20250902T124500
DTSTAMP:20260426T060429
CREATED:20250819T123434Z
LAST-MODIFIED:20250901T113750Z
UID:2334-1756814400-1756817100@varmlandsideburna.se
SUMMARY:Medlemsträff 11
DESCRIPTION:Värmlands Idéburna fortsätter satsningen på digitala medlemsträffar för att öka medlemsnyttan och skapa fler tillfällen för inspiration och gemenskap. \nInnehållet varierar — ibland med teman och föreläsare\, ibland som öppna samtal där vi delar erfarenheter och idéer. \nDen här gången ses vi för ett öppet samtal där vi samtalar fritt kring det som är aktuellt hos er just nu – med eller utan tema. \nDatum: 2 september\nTid: 12.00–12.45Plats: Digitalt via Teams: Använd denna länk för att koppla upp dig  till mötet. \n  \n  \n 
URL:https://varmlandsideburna.se/kalendarium/medlemstraff-11/
LOCATION:Digitalt via Teams
CATEGORIES:Års- och medlemsmöten
ATTACH;FMTTYPE=image/jpeg:https://varmlandsideburna.se/wp-content/uploads/2024/12/Medlemstraffar-11.jpg
END:VEVENT
BEGIN:VEVENT
DTSTART;TZID=Europe/Stockholm:20250916T120000
DTEND;TZID=Europe/Stockholm:20250916T124500
DTSTAMP:20260426T060429
CREATED:20250820T130542Z
LAST-MODIFIED:20250915T134640Z
UID:2715-1758024000-1758026700@varmlandsideburna.se
SUMMARY:Medlemsträff 12 - Värdorganisation Folkuniversitetet
DESCRIPTION:Välkommen till veckans VI hörs där vi har värdorganisationen Folkuniversitetet på plats för att delar med sig av sitt arbete inom folkbildning – både vad som varit och vad som är på gång. Det kommer även finnas tid för er att ta upp andra frågor som ni vill diskutera. \nTräffarna riktar sig till både regionala organisationer och lokalföreningar. Sprid därför informationen inom er organisation. \nDatum: 16 september\nTid: 12.00–12.45Plats: Digitalt via Teams: Använd denna länk för att koppla upp dig  till mötet. \n…………………. \nOm VI Hörs! \nUnder namnet VI hörs! ses vi varannan tisdag kl. 12.00–12.45 via Teams – för dig som vill utbyta idéer och stärka kontakten med andra medlemsorganisationer. \nTräffarna har olika upplägg:– Öppet samtal: Vi samtalar fritt kring det som är aktuellt hos er just nu – med eller utan tema.– Värdorganisation: En medlemsorganisation berättar om sin verksamhet och något särskilt som händer just nu.\n– Omvärldsbevakning med gäst: Vi bjuder in en gäst och samtalar kring ett aktuellt tema. \nVill din organisation vara värd för ett tillfälle?Mejla oss på info@varmlandsideburna.se \nTid: kl. 12.00–12.45\nPlats: Digitalt via Teams\nDatum: 30/9\, 14/10\, 28/10\, 11/11\, 25/11\, 9/12
URL:https://varmlandsideburna.se/kalendarium/medlemstraff-12/
LOCATION:Digitalt via Teams
CATEGORIES:Års- och medlemsmöten
ATTACH;FMTTYPE=image/png:https://varmlandsideburna.se/wp-content/uploads/2025/09/medlemstraff-12.png
END:VEVENT
BEGIN:VEVENT
DTSTART;TZID=Europe/Stockholm:20250930T120000
DTEND;TZID=Europe/Stockholm:20250930T124500
DTSTAMP:20260426T060429
CREATED:20250820T122444Z
LAST-MODIFIED:20250915T134715Z
UID:2700-1759233600-1759236300@varmlandsideburna.se
SUMMARY:Medlemsträff 13 - Öppet samtal
DESCRIPTION:Välkommen till veckans VI hörs där denna gång ses för ett öppet samtal där vi samtalar fritt kring det som är aktuellt hos er just nu. \nDatum: 30 september\nTid: 12.00–12.45Plats: Digitalt via Teams: Använd denna länk för att koppla upp dig  till mötet. \n…………………. \nOm VI Hörs!\nUnder namnet VI hörs! ses vi varannan tisdag kl. 12.00–12.45 via Teams – för dig som vill utbyta idéer och stärka kontakten med andra medlemsorganisationer. \nTräffarna har olika upplägg:– Öppet samtal: Vi samtalar fritt kring det som är aktuellt hos er just nu – med eller utan tema.– Värdorganisation: En medlemsorganisation berättar om sin verksamhet och något särskilt som händer just nu.\n– Omvärldsbevakning med gäst: Vi bjuder in en gäst och samtalar kring ett aktuellt tema. \nVill din organisation vara värd för ett tillfälle?Mejla oss på info@varmlandsideburna.se \nTid: kl. 12.00–12.45\nPlats: Digitalt via Teams\nDatum: 14/10\, 28/10\, 11/11\, 25/11\, 9/12
URL:https://varmlandsideburna.se/kalendarium/medlemstraff-13/
LOCATION:Digitalt via Teams
CATEGORIES:Års- och medlemsmöten
ATTACH;FMTTYPE=image/png:https://varmlandsideburna.se/wp-content/uploads/2025/09/medlemstraff-13.png
END:VEVENT
END:VCALENDAR