BEGIN:VCALENDAR
VERSION:2.0
PRODID:-//Värmlands Idéburna - ECPv6.15.18//NONSGML v1.0//EN
CALSCALE:GREGORIAN
METHOD:PUBLISH
X-WR-CALNAME:Värmlands Idéburna
X-ORIGINAL-URL:https://varmlandsideburna.se
X-WR-CALDESC:Händelser för Värmlands Idéburna
REFRESH-INTERVAL;VALUE=DURATION:PT1H
X-Robots-Tag:noindex
X-PUBLISHED-TTL:PT1H
BEGIN:VTIMEZONE
TZID:Europe/Stockholm
BEGIN:DAYLIGHT
TZOFFSETFROM:+0100
TZOFFSETTO:+0200
TZNAME:CEST
DTSTART:20250330T010000
END:DAYLIGHT
BEGIN:STANDARD
TZOFFSETFROM:+0200
TZOFFSETTO:+0100
TZNAME:CET
DTSTART:20251026T010000
END:STANDARD
BEGIN:DAYLIGHT
TZOFFSETFROM:+0100
TZOFFSETTO:+0200
TZNAME:CEST
DTSTART:20260329T010000
END:DAYLIGHT
BEGIN:STANDARD
TZOFFSETFROM:+0200
TZOFFSETTO:+0100
TZNAME:CET
DTSTART:20261025T010000
END:STANDARD
BEGIN:DAYLIGHT
TZOFFSETFROM:+0100
TZOFFSETTO:+0200
TZNAME:CEST
DTSTART:20270328T010000
END:DAYLIGHT
BEGIN:STANDARD
TZOFFSETFROM:+0200
TZOFFSETTO:+0100
TZNAME:CET
DTSTART:20271031T010000
END:STANDARD
END:VTIMEZONE
BEGIN:VEVENT
DTSTART;TZID=Europe/Stockholm:20260304T083000
DTEND;TZID=Europe/Stockholm:20260304T091500
DTSTAMP:20260422T130118
CREATED:20260209T133652Z
LAST-MODIFIED:20260210T090138Z
UID:2969-1772613000-1772615700@varmlandsideburna.se
SUMMARY:Webbinarium - Bryt långtidsarbetslösheten! Idéburen sektor står redo med 10 000 nya jobb
DESCRIPTION:Välkommen till ett webbinarium som VI gör i samarbete med andra regionala organisationer i Sverige. \n  \nAnmäl dig här>>\n  \nIdéburen sektor kan skala upp och skapa fler möjligheter till jobb för långtidsarbetslösa. På detta webbinarium presenterar Fremias Patrik Schröder rapporten ”Bryt långtidsarbetslösheten! – Idéburen sektor står redo med 10 000 nya jobb” och visar hur vi kan gå från ord till handling. \nArrangemanget sker i samarbete mellan Fremia\, Nätverket – Idéburen sektor Skåne\, Värmlands idéburna\, Social Innovation Syd m.fl. \nMålgrupp   \nDetta är ett öppet arrangemang. Det passar dig som är verksam inom idéburna verksamheter och arbetsintegrerade sociala företag. Även tjänstepersoner i kommun/region som samverkar med civilsamhället och idéburen sektor är välkomna. \nUr innehållet i rapporten\nNuläge och behov\, var långtidsarbetslösheten biter sig fast och vilka grupper som riskerar att hamna utanför. Var finns jobben? roller och verksamheter i idéburen sektor där sysselsättning kan skalas upp. Kapacitet och scenarier: hur 10 000 jobb kan skapas genom partnerskap\, lönestöd\, praktik/spår och utbildningsinslag. Hinder att lösa: upphandling och finansiering\, regelverk\, kompetensmatchning och samverkan med Arbetsförmedlingen och kommuner. \nHär finns rapporten att ta del av >>\nFörslag till stat/region/kommun: konkreta policy- och genomförandeförslag \nDet här får du med dig\nEn tydlig sammanfattning av rapportens rekommendationer att använda internt och i dialog med offentlig sektor. \nProgram\n\nVälkommen och introduktion\nRapportdragning: Vad krävs för 10 000 nya jobb i idéburen sektor? – Patrik Schröder\, Fremia (15 min)\nKommentarer från regional nivå – Nätverket Idéburen sektor i Skåne & Värmlands idéburna (10 min)\nSamtal och vägen vidare: Konkreta nästa steg för medlemmar och regioner (15 min)\n\nPraktiskt\n\nMaterial (slides + sammanfattning/checklista) skickas till anmälda efteråt.\nWebbinariet spelas in.\n\n  \n  \n 
URL:https://varmlandsideburna.se/kalendarium/webbinarium-bryt-langtidsarbetslosheten-ideburen-sektor-star-redo-med-10-000-nya-jobb/
LOCATION:Digitalt via Teams
ATTACH;FMTTYPE=image/jpeg:https://varmlandsideburna.se/wp-content/uploads/2024/12/241125_ESSfoto_Varmlands_ideburna-23-scaled.jpg
END:VEVENT
END:VCALENDAR