BEGIN:VCALENDAR
VERSION:2.0
PRODID:-//Värmlands Idéburna - ECPv6.15.18//NONSGML v1.0//EN
CALSCALE:GREGORIAN
METHOD:PUBLISH
X-ORIGINAL-URL:https://varmlandsideburna.se
X-WR-CALDESC:Händelser för Värmlands Idéburna
REFRESH-INTERVAL;VALUE=DURATION:PT1H
X-Robots-Tag:noindex
X-PUBLISHED-TTL:PT1H
BEGIN:VTIMEZONE
TZID:Europe/Stockholm
BEGIN:DAYLIGHT
TZOFFSETFROM:+0100
TZOFFSETTO:+0200
TZNAME:CEST
DTSTART:20250330T010000
END:DAYLIGHT
BEGIN:STANDARD
TZOFFSETFROM:+0200
TZOFFSETTO:+0100
TZNAME:CET
DTSTART:20251026T010000
END:STANDARD
BEGIN:DAYLIGHT
TZOFFSETFROM:+0100
TZOFFSETTO:+0200
TZNAME:CEST
DTSTART:20260329T010000
END:DAYLIGHT
BEGIN:STANDARD
TZOFFSETFROM:+0200
TZOFFSETTO:+0100
TZNAME:CET
DTSTART:20261025T010000
END:STANDARD
BEGIN:DAYLIGHT
TZOFFSETFROM:+0100
TZOFFSETTO:+0200
TZNAME:CEST
DTSTART:20270328T010000
END:DAYLIGHT
BEGIN:STANDARD
TZOFFSETFROM:+0200
TZOFFSETTO:+0100
TZNAME:CET
DTSTART:20271031T010000
END:STANDARD
END:VTIMEZONE
BEGIN:VEVENT
DTSTART;TZID=Europe/Stockholm:20260225T120000
DTEND;TZID=Europe/Stockholm:20260225T124500
DTSTAMP:20260423T002711
CREATED:20260205T194236Z
LAST-MODIFIED:20260218T140709Z
UID:2964-1772020800-1772023500@varmlandsideburna.se
SUMMARY:Medlemsträff - Vi Hörs!
DESCRIPTION:Välkommen till vårens första VI hörs! \nDenna gång gästas vi av Rädda Barnen som kommer berätta om den senaste Barnfattigdomsrapporten. Rädda barnen tar regelbundet fram en barnfattigdomsrapport. 2025 års rapport ser lite annorlunda ut. Kom och lyssna till 2025 års rapport och hör Gun och Maria från Rädda Barnen Värmland berätta bland annat om varför rapporten är utformad på ett nytt sätt. \nNär: onsdag 25 februari 2026\nTid: 12.00-12.45\nVärdorganisation: Rädda Barnen \nLäs mer och hitta länk till mötet här \n…………………… \nOm VI Hörs!\nUnder namnet VI hörs! ses vi en gång i månaden via Teams – för dig som vill utbyta idéer och stärka kontakten med andra medlemsorganisationer. \nTräffarna har olika upplägg:\n– Öppet samtal: Vi samtalar fritt kring det som är aktuellt hos er just nu – med eller utan tema.\n– Värdorganisation: En medlemsorganisation berättar om sin verksamhet och något särskilt som händer just nu.\n– Omvärldsbevakning med gäst: Vi bjuder in en gäst och samtalar kring ett aktuellt tema. \nVill din organisation vara värd för ett tillfälle?\nMejla oss på info@varmlandsideburna.se
URL:https://varmlandsideburna.se/kalendarium/medlemstraff-vi-hors/
ATTACH;FMTTYPE=image/png:https://varmlandsideburna.se/wp-content/uploads/2026/02/8.png
END:VEVENT
END:VCALENDAR