BEGIN:VCALENDAR
VERSION:2.0
PRODID:-//Värmlands Idéburna - ECPv6.15.18//NONSGML v1.0//EN
CALSCALE:GREGORIAN
METHOD:PUBLISH
X-WR-CALNAME:Värmlands Idéburna
X-ORIGINAL-URL:https://varmlandsideburna.se
X-WR-CALDESC:Händelser för Värmlands Idéburna
REFRESH-INTERVAL;VALUE=DURATION:PT1H
X-Robots-Tag:noindex
X-PUBLISHED-TTL:PT1H
BEGIN:VTIMEZONE
TZID:Europe/Stockholm
BEGIN:DAYLIGHT
TZOFFSETFROM:+0100
TZOFFSETTO:+0200
TZNAME:CEST
DTSTART:20240331T010000
END:DAYLIGHT
BEGIN:STANDARD
TZOFFSETFROM:+0200
TZOFFSETTO:+0100
TZNAME:CET
DTSTART:20241027T010000
END:STANDARD
BEGIN:DAYLIGHT
TZOFFSETFROM:+0100
TZOFFSETTO:+0200
TZNAME:CEST
DTSTART:20250330T010000
END:DAYLIGHT
BEGIN:STANDARD
TZOFFSETFROM:+0200
TZOFFSETTO:+0100
TZNAME:CET
DTSTART:20251026T010000
END:STANDARD
BEGIN:DAYLIGHT
TZOFFSETFROM:+0100
TZOFFSETTO:+0200
TZNAME:CEST
DTSTART:20260329T010000
END:DAYLIGHT
BEGIN:STANDARD
TZOFFSETFROM:+0200
TZOFFSETTO:+0100
TZNAME:CET
DTSTART:20261025T010000
END:STANDARD
END:VTIMEZONE
BEGIN:VEVENT
DTSTART;TZID=Europe/Stockholm:20251125T120000
DTEND;TZID=Europe/Stockholm:20251125T124500
DTSTAMP:20260426T043016
CREATED:20250820T130045Z
LAST-MODIFIED:20251115T123123Z
UID:2713-1764072000-1764074700@varmlandsideburna.se
SUMMARY:Medlemsträff 17 - Öppet samtal
DESCRIPTION:Välkommen till veckans VI hörs! \nDenna gången håller vi ett öppet samtal med reflektion från höstkonferensen 24 november. \nDen 24 november är det höstens stora konferens för idéburens sektor. Årets tema är krig och fred. VI hörs äger rm dagen efter konferensen vilket betyder att det finns tid för reflektion med konferensdeltagare men också för de som inte hade möjlighet att delta på konferensen. \nDatum: 25 november\nTid: 12.00–12.45Plats: Digitalt via Teams: Använd denna länk för att koppla upp dig  till mötet. \n…………………. \nOm VI Hörs!\nUnder namnet VI hörs! ses vi varannan tisdag kl. 12.00–12.45 via Teams – för dig som vill utbyta idéer och stärka kontakten med andra medlemsorganisationer. \nTräffarna har olika upplägg:– Öppet samtal: Vi samtalar fritt kring det som är aktuellt hos er just nu – med eller utan tema.– Värdorganisation: En medlemsorganisation berättar om sin verksamhet och något särskilt som händer just nu.\n– Omvärldsbevakning med gäst: Vi bjuder in en gäst och samtalar kring ett aktuellt tema. \nVill din organisation vara värd för ett tillfälle?Mejla oss på info@varmlandsideburna.se \nTid: kl. 12.00–12.45\nPlats: Digitalt via Teams\nDatum: 9/12
URL:https://varmlandsideburna.se/kalendarium/medlemstraff-17/
LOCATION:Digitalt via Teams
CATEGORIES:Års- och medlemsmöten
ATTACH;FMTTYPE=image/png:https://varmlandsideburna.se/wp-content/uploads/2025/08/medlemstraff-17.png
END:VEVENT
END:VCALENDAR